BEGIN:VCALENDAR
VERSION:2.0
PRODID:-//VVD Zoetermeer - ECPv6.15.18//NONSGML v1.0//EN
CALSCALE:GREGORIAN
METHOD:PUBLISH
X-ORIGINAL-URL:https://vvdzoetermeer.nl
X-WR-CALDESC:Evenementen voor VVD Zoetermeer
REFRESH-INTERVAL;VALUE=DURATION:PT1H
X-Robots-Tag:noindex
X-PUBLISHED-TTL:PT1H
BEGIN:VTIMEZONE
TZID:Europe/Amsterdam
BEGIN:DAYLIGHT
TZOFFSETFROM:+0100
TZOFFSETTO:+0200
TZNAME:CEST
DTSTART:20240331T010000
END:DAYLIGHT
BEGIN:STANDARD
TZOFFSETFROM:+0200
TZOFFSETTO:+0100
TZNAME:CET
DTSTART:20241027T010000
END:STANDARD
BEGIN:DAYLIGHT
TZOFFSETFROM:+0100
TZOFFSETTO:+0200
TZNAME:CEST
DTSTART:20250330T010000
END:DAYLIGHT
BEGIN:STANDARD
TZOFFSETFROM:+0200
TZOFFSETTO:+0100
TZNAME:CET
DTSTART:20251026T010000
END:STANDARD
BEGIN:DAYLIGHT
TZOFFSETFROM:+0100
TZOFFSETTO:+0200
TZNAME:CEST
DTSTART:20260329T010000
END:DAYLIGHT
BEGIN:STANDARD
TZOFFSETFROM:+0200
TZOFFSETTO:+0100
TZNAME:CET
DTSTART:20261025T010000
END:STANDARD
END:VTIMEZONE
BEGIN:VEVENT
DTSTART;TZID=Europe/Amsterdam:20250901T193000
DTEND;TZID=Europe/Amsterdam:20250901T233000
DTSTAMP:20260423T122355
CREATED:20250820T085900Z
LAST-MODIFIED:20250821T130846Z
UID:3321-1756755000-1756769400@vvdzoetermeer.nl
SUMMARY:Opening politiek seizoen
DESCRIPTION:
URL:https://vvdzoetermeer.nl/activiteit/start-politiek-seizoen/
LOCATION:n.t.b.\, Nederland
CATEGORIES:opening politiek seizoen
ATTACH;FMTTYPE=image/jpeg:https://vvdzoetermeer.nl/wp-content/uploads/2024/12/gemeenteraad-zoetermeer.jpg
END:VEVENT
END:VCALENDAR