BEGIN:VCALENDAR
VERSION:2.0
PRODID:-//VVD Zoetermeer - ECPv6.15.18//NONSGML v1.0//EN
CALSCALE:GREGORIAN
METHOD:PUBLISH
X-ORIGINAL-URL:https://vvdzoetermeer.nl
X-WR-CALDESC:Evenementen voor VVD Zoetermeer
REFRESH-INTERVAL;VALUE=DURATION:PT1H
X-Robots-Tag:noindex
X-PUBLISHED-TTL:PT1H
BEGIN:VTIMEZONE
TZID:Europe/Amsterdam
BEGIN:DAYLIGHT
TZOFFSETFROM:+0100
TZOFFSETTO:+0200
TZNAME:CEST
DTSTART:20230326T010000
END:DAYLIGHT
BEGIN:STANDARD
TZOFFSETFROM:+0200
TZOFFSETTO:+0100
TZNAME:CET
DTSTART:20231029T010000
END:STANDARD
BEGIN:DAYLIGHT
TZOFFSETFROM:+0100
TZOFFSETTO:+0200
TZNAME:CEST
DTSTART:20240331T010000
END:DAYLIGHT
BEGIN:STANDARD
TZOFFSETFROM:+0200
TZOFFSETTO:+0100
TZNAME:CET
DTSTART:20241027T010000
END:STANDARD
BEGIN:DAYLIGHT
TZOFFSETFROM:+0100
TZOFFSETTO:+0200
TZNAME:CEST
DTSTART:20250330T010000
END:DAYLIGHT
BEGIN:STANDARD
TZOFFSETFROM:+0200
TZOFFSETTO:+0100
TZNAME:CET
DTSTART:20251026T010000
END:STANDARD
END:VTIMEZONE
BEGIN:VEVENT
DTSTART;TZID=Europe/Amsterdam:20240914T103000
DTEND;TZID=Europe/Amsterdam:20240914T123000
DTSTAMP:20260424T023251
CREATED:20240621T081039Z
LAST-MODIFIED:20240725T091804Z
UID:1800-1726309800-1726317000@vvdzoetermeer.nl
SUMMARY:Stadswandeling met Jan Iedema
DESCRIPTION:
URL:https://vvdzoetermeer.nl/activiteit/stadswandeling-met-jan-iedema/
LOCATION:Stadhuis Zoetermeer\, Engelandlaan 502\, Zoetermeer\, 2711 EB\, Nederland
CATEGORIES:stadswandeling
ATTACH;FMTTYPE=image/jpeg:https://vvdzoetermeer.nl/wp-content/uploads/2024/06/Stadswandeling.jpeg
END:VEVENT
END:VCALENDAR