BEGIN:VCALENDAR
VERSION:2.0
PRODID:-//VVD Zoetermeer - ECPv6.15.18//NONSGML v1.0//EN
CALSCALE:GREGORIAN
METHOD:PUBLISH
X-ORIGINAL-URL:https://vvdzoetermeer.nl
X-WR-CALDESC:Evenementen voor VVD Zoetermeer
REFRESH-INTERVAL;VALUE=DURATION:PT1H
X-Robots-Tag:noindex
X-PUBLISHED-TTL:PT1H
BEGIN:VTIMEZONE
TZID:Europe/Amsterdam
BEGIN:DAYLIGHT
TZOFFSETFROM:+0100
TZOFFSETTO:+0200
TZNAME:CEST
DTSTART:20230326T010000
END:DAYLIGHT
BEGIN:STANDARD
TZOFFSETFROM:+0200
TZOFFSETTO:+0100
TZNAME:CET
DTSTART:20231029T010000
END:STANDARD
BEGIN:DAYLIGHT
TZOFFSETFROM:+0100
TZOFFSETTO:+0200
TZNAME:CEST
DTSTART:20240331T010000
END:DAYLIGHT
BEGIN:STANDARD
TZOFFSETFROM:+0200
TZOFFSETTO:+0100
TZNAME:CET
DTSTART:20241027T010000
END:STANDARD
BEGIN:DAYLIGHT
TZOFFSETFROM:+0100
TZOFFSETTO:+0200
TZNAME:CEST
DTSTART:20250330T010000
END:DAYLIGHT
BEGIN:STANDARD
TZOFFSETFROM:+0200
TZOFFSETTO:+0100
TZNAME:CET
DTSTART:20251026T010000
END:STANDARD
BEGIN:DAYLIGHT
TZOFFSETFROM:+0100
TZOFFSETTO:+0200
TZNAME:CEST
DTSTART:20260329T010000
END:DAYLIGHT
BEGIN:STANDARD
TZOFFSETFROM:+0200
TZOFFSETTO:+0100
TZNAME:CET
DTSTART:20261025T010000
END:STANDARD
END:VTIMEZONE
BEGIN:VEVENT
DTSTART;TZID=Europe/Amsterdam:20250821T170000
DTEND;TZID=Europe/Amsterdam:20250821T183000
DTSTAMP:20260423T080446
CREATED:20250616T183614Z
LAST-MODIFIED:20250821T130900Z
UID:3012-1755795600-1755801000@vvdzoetermeer.nl
SUMMARY:VVD Zomerborrel
DESCRIPTION:
URL:https://vvdzoetermeer.nl/activiteit/vvd-zomerborrel-2/
LOCATION:PuuRR aan de Dobbe\, Markt 1\, Zoetermeer\, Zuid-Holland\, 2711CZ\, Netherlands
CATEGORIES:zomerborrel
END:VEVENT
BEGIN:VEVENT
DTSTART;TZID=Europe/Amsterdam:20250723T170000
DTEND;TZID=Europe/Amsterdam:20250723T183000
DTSTAMP:20260423T080446
CREATED:20250616T183427Z
LAST-MODIFIED:20250821T130912Z
UID:3010-1753290000-1753295400@vvdzoetermeer.nl
SUMMARY:VVD Zomerborrel
DESCRIPTION:
URL:https://vvdzoetermeer.nl/activiteit/vvd-zomerborrel/
LOCATION:Dekker Zoetermeer\, Scheglaan 12\, Zoetermeer\, Zuid-Holland\, 2718KZ\, Netherlands
CATEGORIES:zomerborrel
END:VEVENT
BEGIN:VEVENT
DTSTART;TZID=Europe/Amsterdam:20240821T170000
DTEND;TZID=Europe/Amsterdam:20240821T183000
DTSTAMP:20260423T080446
CREATED:20231211T104503Z
LAST-MODIFIED:20240725T091836Z
UID:1380-1724259600-1724265000@vvdzoetermeer.nl
SUMMARY:Zomerborrel
DESCRIPTION:
URL:https://vvdzoetermeer.nl/activiteit/zomerborrel-4/
LOCATION:Happy Moose\, Het Lange Land 20\, Zoetermeer\, 2725 KZ\, Nederland
CATEGORIES:zomerborrel
ATTACH;FMTTYPE=image/jpeg:https://vvdzoetermeer.nl/wp-content/uploads/2023/06/Zomerborrel-scaled.jpg
END:VEVENT
BEGIN:VEVENT
DTSTART;TZID=Europe/Amsterdam:20240717T170000
DTEND;TZID=Europe/Amsterdam:20240717T190000
DTSTAMP:20260423T080446
CREATED:20231211T104348Z
LAST-MODIFIED:20240725T091907Z
UID:1378-1721235600-1721242800@vvdzoetermeer.nl
SUMMARY:Zomerborrel
DESCRIPTION:
URL:https://vvdzoetermeer.nl/activiteit/zomerborrel-3/
LOCATION:Bowling & RecreatieWesterpark Zoetermeer\, Heuvelweg 4\,\, Zoetermeer\, Zuid-Holland\, 2712 AG\, Nederland
CATEGORIES:zomerborrel
ATTACH;FMTTYPE=image/jpeg:https://vvdzoetermeer.nl/wp-content/uploads/2023/06/Zomerborrel-scaled.jpg
END:VEVENT
END:VCALENDAR