BEGIN:VCALENDAR
VERSION:2.0
PRODID:-//VVD Zoetermeer - ECPv6.15.18//NONSGML v1.0//EN
CALSCALE:GREGORIAN
METHOD:PUBLISH
X-WR-CALNAME:VVD Zoetermeer
X-ORIGINAL-URL:https://vvdzoetermeer.nl
X-WR-CALDESC:Evenementen voor VVD Zoetermeer
REFRESH-INTERVAL;VALUE=DURATION:PT1H
X-Robots-Tag:noindex
X-PUBLISHED-TTL:PT1H
BEGIN:VTIMEZONE
TZID:Europe/Amsterdam
BEGIN:DAYLIGHT
TZOFFSETFROM:+0100
TZOFFSETTO:+0200
TZNAME:CEST
DTSTART:20240331T010000
END:DAYLIGHT
BEGIN:STANDARD
TZOFFSETFROM:+0200
TZOFFSETTO:+0100
TZNAME:CET
DTSTART:20241027T010000
END:STANDARD
BEGIN:DAYLIGHT
TZOFFSETFROM:+0100
TZOFFSETTO:+0200
TZNAME:CEST
DTSTART:20250330T010000
END:DAYLIGHT
BEGIN:STANDARD
TZOFFSETFROM:+0200
TZOFFSETTO:+0100
TZNAME:CET
DTSTART:20251026T010000
END:STANDARD
BEGIN:DAYLIGHT
TZOFFSETFROM:+0100
TZOFFSETTO:+0200
TZNAME:CEST
DTSTART:20260329T010000
END:DAYLIGHT
BEGIN:STANDARD
TZOFFSETFROM:+0200
TZOFFSETTO:+0100
TZNAME:CET
DTSTART:20261025T010000
END:STANDARD
END:VTIMEZONE
BEGIN:VEVENT
DTSTART;TZID=Europe/Amsterdam:20251201T193000
DTEND;TZID=Europe/Amsterdam:20251201T193000
DTSTAMP:20260424T022446
CREATED:20250820T093550Z
LAST-MODIFIED:20250821T130228Z
UID:3353-1764617400-1764617400@vvdzoetermeer.nl
SUMMARY:Commissievergaderingen
DESCRIPTION:Elke maandag is het ‘Maandag Raadsdag’. Dan vinden ‘s avonds vergaderingen plaats van de raadscommissies en/of gemeenteraad. Deze vergaderingen zijn (bijna altijd) openbaar. Iedereen is dan ook van harte welkom op het Stadhuis. U kunt in het Raadsinformatiesysteem zien wat er die avond op de agenda staat: https://zoetermeer.bestuurlijkeinformatie.nl/. \nDe gemeenteraad laat zich onder andere adviseren door de raadscommissies Plenair\, Stad en Samenleving. Elke commissie behandelt verschillende onderwerpen. De meeste onderwerpen worden eerst in de commissie besproken voordat deze in de raad worden behandeld. De commissie adviseert de raad over de voorgestelde besluiten. \nOp ‘Maandag Raadsdag’ vinden steeds twee maandagen achter elkaar commissievergaderingen plaats gevolgd door een week met alleen een raadsdebat. In de week van het raadsdebat neemt de gemeenteraad ook besluiten. \nDe fractie van de Zoetermeerse VVD vergadert elke donderdagavond voorafgaande aan een raads-of commissievergadering. Alle onderwerpen worden dan besproken en een in te nemen of uit te dragen standpunt voorbereid. Als u over één of meer onderwerpen die op de agenda van de raad of commissies wilt spreken\, dan kan dat natuurlijk. U kunt dan voor een afspraak contact opnemen met één van de raads- of commissieleden van de Zoetermeerse VVD of via een bericht naar fractie@vvdzoetermeer.nl. Elk lid van de VVD-fractie heeft een eigen portefeuille van onderwerpen waar hij of zij woordvoerder van is. U kunt het betreffende raads-of commissielid rechtstreeks benaderen over ‘hun’ onderwerpen: https://raad.zoetermeer.nl/fractie-vvd-overzicht-portefeuillewoordvoerder. Uiteraard kunt u ook over alle andere zaken die (nog) niet op de agenda van de raad of commissies staat met de VVD-fractie in contact treden! \nAlle openbare raads- en commissievergaderingen zijn ook door middel van een livestream te volgen: https://channel.royalcast.com/gemeentezoetermeer/#!/upcoming. Ook voorgaande vergaderingen kunt u terugkijken: https://channel.royalcast.com/gemeentezoetermeer/#!/archived. Als u een keer een raads- of commissievergaderingen wil bijwonen en u wilt wegwijs worden gemaakt over hoe zaken in hun werk gaan\, neem gerust contact op met de VVD-fractie: fractie@vvdzoetermeer.nl. De fractie van de Zoetermeerse VVD zal u dan graag welkom heten en u het reilen zeilen in de raad toelichten!
URL:https://vvdzoetermeer.nl/activiteit/commissievergaderingen-39/
LOCATION:Stadhuis Zoetermeer\, Engelandlaan 502\, Zoetermeer\, 2711 EB\, Nederland
CATEGORIES:commissievergaderingen
ATTACH;FMTTYPE=image/jpeg:https://vvdzoetermeer.nl/wp-content/uploads/2024/12/gemeenteraad-zoetermeer.jpg
END:VEVENT
BEGIN:VEVENT
DTSTART;TZID=Europe/Amsterdam:20251208T193000
DTEND;TZID=Europe/Amsterdam:20251208T233000
DTSTAMP:20260424T022446
CREATED:20250820T092909Z
LAST-MODIFIED:20250821T130200Z
UID:3348-1765222200-1765236600@vvdzoetermeer.nl
SUMMARY:Commissievergaderingen
DESCRIPTION:Elke maandag is het ‘Maandag Raadsdag’. Dan vinden ‘s avonds vergaderingen plaats van de raadscommissies en/of gemeenteraad. Deze vergaderingen zijn (bijna altijd) openbaar. Iedereen is dan ook van harte welkom op het Stadhuis. U kunt in het Raadsinformatiesysteem zien wat er die avond op de agenda staat: https://zoetermeer.bestuurlijkeinformatie.nl/. \nDe gemeenteraad laat zich onder andere adviseren door de raadscommissies Plenair\, Stad en Samenleving. Elke commissie behandelt verschillende onderwerpen. De meeste onderwerpen worden eerst in de commissie besproken voordat deze in de raad worden behandeld. De commissie adviseert de raad over de voorgestelde besluiten. \nOp ‘Maandag Raadsdag’ vinden steeds twee maandagen achter elkaar commissievergaderingen plaats gevolgd door een week met alleen een raadsdebat. In de week van het raadsdebat neemt de gemeenteraad ook besluiten. \nDe fractie van de Zoetermeerse VVD vergadert elke donderdagavond voorafgaande aan een raads-of commissievergadering. Alle onderwerpen worden dan besproken en een in te nemen of uit te dragen standpunt voorbereid. Als u over één of meer onderwerpen die op de agenda van de raad of commissies wilt spreken\, dan kan dat natuurlijk. U kunt dan voor een afspraak contact opnemen met één van de raads- of commissieleden van de Zoetermeerse VVD of via een bericht naar fractie@vvdzoetermeer.nl. Elk lid van de VVD-fractie heeft een eigen portefeuille van onderwerpen waar hij of zij woordvoerder van is. U kunt het betreffende raads-of commissielid rechtstreeks benaderen over ‘hun’ onderwerpen: https://raad.zoetermeer.nl/fractie-vvd-overzicht-portefeuillewoordvoerder. Uiteraard kunt u ook over alle andere zaken die (nog) niet op de agenda van de raad of commissies staat met de VVD-fractie in contact treden! \nAlle openbare raads- en commissievergaderingen zijn ook door middel van een livestream te volgen: https://channel.royalcast.com/gemeentezoetermeer/#!/upcoming. Ook voorgaande vergaderingen kunt u terugkijken: https://channel.royalcast.com/gemeentezoetermeer/#!/archived. Als u een keer een raads- of commissievergaderingen wil bijwonen en u wilt wegwijs worden gemaakt over hoe zaken in hun werk gaan\, neem gerust contact op met de VVD-fractie: fractie@vvdzoetermeer.nl. De fractie van de Zoetermeerse VVD zal u dan graag welkom heten en u het reilen zeilen in de raad toelichten!
URL:https://vvdzoetermeer.nl/activiteit/commissievergaderingen-40/
LOCATION:Stadhuis Zoetermeer\, Engelandlaan 502\, Zoetermeer\, 2711 EB\, Nederland
CATEGORIES:commissievergaderingen
ATTACH;FMTTYPE=image/jpeg:https://vvdzoetermeer.nl/wp-content/uploads/2024/12/gemeenteraad-zoetermeer.jpg
END:VEVENT
END:VCALENDAR