BEGIN:VCALENDAR
VERSION:2.0
PRODID:-//VVD Zoetermeer - ECPv6.15.18//NONSGML v1.0//EN
CALSCALE:GREGORIAN
METHOD:PUBLISH
X-WR-CALNAME:VVD Zoetermeer
X-ORIGINAL-URL:https://vvdzoetermeer.nl
X-WR-CALDESC:Evenementen voor VVD Zoetermeer
REFRESH-INTERVAL;VALUE=DURATION:PT1H
X-Robots-Tag:noindex
X-PUBLISHED-TTL:PT1H
BEGIN:VTIMEZONE
TZID:Europe/Amsterdam
BEGIN:DAYLIGHT
TZOFFSETFROM:+0100
TZOFFSETTO:+0200
TZNAME:CEST
DTSTART:20240331T010000
END:DAYLIGHT
BEGIN:STANDARD
TZOFFSETFROM:+0200
TZOFFSETTO:+0100
TZNAME:CET
DTSTART:20241027T010000
END:STANDARD
BEGIN:DAYLIGHT
TZOFFSETFROM:+0100
TZOFFSETTO:+0200
TZNAME:CEST
DTSTART:20250330T010000
END:DAYLIGHT
BEGIN:STANDARD
TZOFFSETFROM:+0200
TZOFFSETTO:+0100
TZNAME:CET
DTSTART:20251026T010000
END:STANDARD
BEGIN:DAYLIGHT
TZOFFSETFROM:+0100
TZOFFSETTO:+0200
TZNAME:CEST
DTSTART:20260329T010000
END:DAYLIGHT
BEGIN:STANDARD
TZOFFSETFROM:+0200
TZOFFSETTO:+0100
TZNAME:CET
DTSTART:20261025T010000
END:STANDARD
END:VTIMEZONE
BEGIN:VEVENT
DTSTART;TZID=Europe/Amsterdam:20250107T193000
DTEND;TZID=Europe/Amsterdam:20250107T223000
DTSTAMP:20260424T024515
CREATED:20241228T151610Z
LAST-MODIFIED:20241228T152056Z
UID:2442-1736278200-1736289000@vvdzoetermeer.nl
SUMMARY:Nieuwjaarsbijeenkomst gemeente Zoetermeer
DESCRIPTION:
URL:https://vvdzoetermeer.nl/activiteit/nieuwjaarsbijeenkomst-gemeente-zoetermeer/
LOCATION:Stadstheater Zoetermeer\, Theaterplein 10\, Zoetermeer\, Zuid-Holland\, 2711 EK
CATEGORIES:nieuwjaarsbijeenkomst
ATTACH;FMTTYPE=image/jpeg:https://vvdzoetermeer.nl/wp-content/uploads/2024/12/Stadstheater.jpg
END:VEVENT
END:VCALENDAR